BEGIN:VCALENDAR
VERSION:2.0
PRODID:-//Yolistico - ECPv6.15.20//NONSGML v1.0//EN
CALSCALE:GREGORIAN
METHOD:PUBLISH
X-WR-CALNAME:Yolistico
X-ORIGINAL-URL:https://yolistico.com
X-WR-CALDESC:Eventos para Yolistico
REFRESH-INTERVAL;VALUE=DURATION:PT1H
X-Robots-Tag:noindex
X-PUBLISHED-TTL:PT1H
BEGIN:VTIMEZONE
TZID:America/Mexico_City
BEGIN:DAYLIGHT
TZOFFSETFROM:-0600
TZOFFSETTO:-0500
TZNAME:CDT
DTSTART:20210404T080000
END:DAYLIGHT
BEGIN:STANDARD
TZOFFSETFROM:-0500
TZOFFSETTO:-0600
TZNAME:CST
DTSTART:20211031T070000
END:STANDARD
BEGIN:DAYLIGHT
TZOFFSETFROM:-0600
TZOFFSETTO:-0500
TZNAME:CDT
DTSTART:20220403T080000
END:DAYLIGHT
BEGIN:STANDARD
TZOFFSETFROM:-0500
TZOFFSETTO:-0600
TZNAME:CST
DTSTART:20221030T070000
END:STANDARD
END:VTIMEZONE
BEGIN:VEVENT
DTSTART;TZID=America/Mexico_City:20220502T190000
DTEND;TZID=America/Mexico_City:20220502T203000
DTSTAMP:20260420T020435
CREATED:20220406T182128Z
LAST-MODIFIED:20220406T193630Z
UID:32934-1651518000-1651523400@yolistico.com
SUMMARY:Fortaleza mental y emocional para jinetes (segunda fase)
DESCRIPTION:En este taller nos centraremos en seguir explorando y practicando nuevas herramientas que permitan a los jinetes tener un manejo correcto de la presión competitiva\, reaccionar de forma más proactiva ante las demandas\, concretar su motivación en acciones específicas\, desarrollar  y mantener una actitud positiva y un enfoque de crecimiento continuo que contribuyan en su rendimiento deportivo. Así como perfeccionar las habilidades ya existentes\, recordando que solo mediante la práctica se puede llegar a ser competente en los procesos de autorregulación. El taller consta de 8 sesiones semanales en formato de conferencia virtual\, con espacios de preguntas y respuestas durante la sesión. La duración por sesión es de 1 hora y 15 min.
URL:https://yolistico.com/taller/fortaleza-mental-y-emocional-para-jinetes-segunda-fase/
END:VEVENT
BEGIN:VEVENT
DTSTART;TZID=America/Mexico_City:20230904T190000
DTEND;TZID=America/Mexico_City:20231023T201500
DTSTAMP:20260420T020435
CREATED:20230814T195735Z
LAST-MODIFIED:20230814T195739Z
UID:62201-1693854000-1698092100@yolistico.com
SUMMARY:Fortaleza mental y emocional para jinetes
DESCRIPTION:Un taller diseñado para jinetes que necesiten mejorar su desempeño bajo la presión de la competencia. \n\n\n\nSesiones grupales impartidas por Zoom. Lunes de 19:00 a las 20:15.  \n\n\n\nDel 4 de septiembre al 23 de octubre. Imparten Lic. Tatiana Tommasi y Lic. Karina Sánchez.
URL:https://yolistico.com/taller/fortaleza-mental-y-emocional-para-jinetes/
END:VEVENT
BEGIN:VEVENT
DTSTART;TZID=America/Mexico_City:20230905T190000
DTEND;TZID=America/Mexico_City:20231023T190000
DTSTAMP:20260420T020435
CREATED:20230814T200142Z
LAST-MODIFIED:20230814T200424Z
UID:62204-1693940400-1698087600@yolistico.com
SUMMARY:Brain Gym: Entrenamiento Mental para Deportistas
DESCRIPTION:Un taller de 8 sesiones de 30 minutos para mejorar tus capacidades corporales y mentales que te permitan tomar el control de tu atención\, autorregulación mental\, corporal y emocional.  \n\n\n\nImparte Tatiana Tommasi.a partir de 12 años.  \n\n\n\nDuración 4 horas dividido en 8 sesiones de 30 min\, 1 vez por semana. Impartido vía zoom\, con grabaciones disponibles. \n\n\n\nSerán sesiones grupales prácticas y vivenciales en las que se revisarán las herramientas básicas para comenzar a estructurar un entrenamiento mental sistemático.
URL:https://yolistico.com/taller/brain-gym-entrenamiento-mental-para-deportistas/
END:VEVENT
BEGIN:VEVENT
DTSTART;TZID=America/Mexico_City:20230925T180000
DTEND;TZID=America/Mexico_City:20231106T180000
DTSTAMP:20260420T020435
CREATED:20230814T200911Z
LAST-MODIFIED:20230814T201022Z
UID:62207-1695664800-1699293600@yolistico.com
SUMMARY:Psicología del Desempeño Ecuestre para Adolescentes
DESCRIPTION:Un taller diseñado para jinetes de 11 a 14 años que requieran integrar la preparación psicológica\, emocional y mental durante la práctica del deporte ecuestre.  \n\n\n\nSesiones grupales impartidas por Zoom con duración aproximada de 45 min más espacio de preguntas y respuestas.  \n\n\n\nLunes de 18:00 a las 19:15 horas. Imparten Lic. Tatiana Tommasi y Lic. Karina Sánchez.
URL:https://yolistico.com/taller/psicologia-del-desempeno-ecuestre-para-adolescentes/
END:VEVENT
END:VCALENDAR